BEGIN:VCALENDAR
VERSION:2.0
PRODID:-//Tribe Porty - ECPv6.15.20//NONSGML v1.0//EN
CALSCALE:GREGORIAN
METHOD:PUBLISH
X-WR-CALNAME:Tribe Porty
X-ORIGINAL-URL:https://tribeporty.org
X-WR-CALDESC:Events for Tribe Porty
REFRESH-INTERVAL;VALUE=DURATION:PT1H
X-Robots-Tag:noindex
X-PUBLISHED-TTL:PT1H
BEGIN:VTIMEZONE
TZID:Europe/London
BEGIN:DAYLIGHT
TZOFFSETFROM:+0000
TZOFFSETTO:+0100
TZNAME:BST
DTSTART:20250330T010000
END:DAYLIGHT
BEGIN:STANDARD
TZOFFSETFROM:+0100
TZOFFSETTO:+0000
TZNAME:GMT
DTSTART:20251026T010000
END:STANDARD
BEGIN:DAYLIGHT
TZOFFSETFROM:+0000
TZOFFSETTO:+0100
TZNAME:BST
DTSTART:20260329T010000
END:DAYLIGHT
BEGIN:STANDARD
TZOFFSETFROM:+0100
TZOFFSETTO:+0000
TZNAME:GMT
DTSTART:20261025T010000
END:STANDARD
BEGIN:DAYLIGHT
TZOFFSETFROM:+0000
TZOFFSETTO:+0100
TZNAME:BST
DTSTART:20270328T010000
END:DAYLIGHT
BEGIN:STANDARD
TZOFFSETFROM:+0100
TZOFFSETTO:+0000
TZNAME:GMT
DTSTART:20271031T010000
END:STANDARD
END:VTIMEZONE
BEGIN:VEVENT
DTSTART;TZID=Europe/London:20260109T093000
DTEND;TZID=Europe/London:20260109T100000
DTSTAMP:20260420T194107
CREATED:20260107T164228Z
LAST-MODIFIED:20260107T164228Z
UID:11554-1767951000-1767952800@tribeporty.org
SUMMARY:Morning Cuppa & Meditation
DESCRIPTION:Every Friday morning! \nBegin your day with stillness and presence. Every Friday morning in October\, join us for a gentle guided meditation over a warm cup of tea or coffee. In just 10-15 minutes\, we’ll create a space to quiet the mind\, reconnect with the body\, and set a calm tone for the day ahead. No rush\, no pressure – just a moment of peace to start your morning. \nNo need to pre-book\, just come along to reception at 9:30 AM. \nThis is for Tribe Porty members.
URL:https://tribeporty.org/event/morning-cuppa-meditation-7/
LOCATION:Reception\, 19 Windsor Place\, Edinburgh\, City of Edinburgh\, EH15 2AJ\, United Kingdom
ATTACH;FMTTYPE=image/jpeg:https://tribeporty.org/wp-content/uploads/unnamed-e1764685256458.jpeg
END:VEVENT
BEGIN:VEVENT
DTSTART;TZID=Europe/London:20260111T100000
DTEND;TZID=Europe/London:20260111T160000
DTSTAMP:20260420T194107
CREATED:20260107T163634Z
LAST-MODIFIED:20260107T163634Z
UID:11550-1768125600-1768147200@tribeporty.org
SUMMARY:Edinburgh Writers' Retreat
DESCRIPTION:The best one-day writing retreat in brilliant Edinburgh\nSometimes what you really need is simple: time\, space and a whole load of tea and biscuits to get writing. \nWell\, it just so happens that’s exactly what happens at a Writers’ HQ writers’ retreat. \nBecause\, look\, we get it. We have the same writerly problem. We make the grandest of plans – Booker Prize winning plans! Pulitzer winning plans! – but life gets in the way. \nThere’s always one more thing to do\, or one more stupid thing to look at on the Internet. Before you know it\, it’s gone midnight\, you’re sitting in your pants eating Dairy Milk\, and you’ve written 25 words. Ugh. \nThat’s why we developed our writing retreats\, in which we turn off the wifi and make you get on with it. \nWe help you set a writing target for the day\, ply you with caffeine\, cake\, and gold stars\, and keep you pepped up and motivated all day long. \nAll you have to do is\, uh… write. \nOur (in)famous writing retreats were born in Brighton all the way back in 2012 and have since spread across the UK. You’ll find a whole range of writers here — from novelists to short fictioneers\, screenwriters to poets\, academics to journallers. Everyone is welcome. \nSo c’mon down and let us help you. Because the only way to get your writing done is to sit down and write. \nDirections\nThe venue is just off the high street and there is on-street parking. \nA range of buses also run to Portobello from the centre of Edinburgh (services 26\, 45\, 15 and 49) and from East Lothian. \nThe nearest train station is Brunstane which is a 15 min walk away and has regular services to Waverley station (8 mins to city centre). There is also a new service from Brunstane to the Borders. \nAccessibility\nTribe Porty has level and step-free access throughout\, and an accessible disabled toilet. \nThe walls and the doors have high colour contrast and there is good lighting throughout. \nWe can also cater for dietary requirements. \nIf you have any additional needs\, please let us know when you book or email he**@**********co.uk and we’ll do everything we can do help. \nAnything else?\nWriters’ HQ retreats are strictly no sharing events! \nWe want you to focus on writing your story instead of getting anxious about other people reading it. \nThere is no workshopping or taught element to the retreats. It’s just about the writing. \nFor more writing resources\, check out our awesome range of online writing courses. \nWho’s hosting?\nThe glorious Veronique Kootstra! \nVeronique runs the Edinburgh retreats and also hosts online weekend retreats and other webinars. She writes short stories\, flash fiction and is querying her first novel. \nShe’s currently working on her second novel. When she’s not writing you can usually find her in the cinema or on Twitter.
URL:https://tribeporty.org/event/edinburgh-writers-retreat-2/
LOCATION:Scotland
ATTACH;FMTTYPE=image/png:https://tribeporty.org/wp-content/uploads/Screen-Shot-2025-10-22-at-14.09.15.png
END:VEVENT
BEGIN:VEVENT
DTSTART;TZID=Europe/London:20260115T183000
DTEND;TZID=Europe/London:20260115T194500
DTSTAMP:20260420T194107
CREATED:20260106T155035Z
LAST-MODIFIED:20260106T155035Z
UID:11536-1768501800-1768506300@tribeporty.org
SUMMARY:The Dead Curious Cafe
DESCRIPTION:The Dead Curious Cafe at Tribe Porty. \nOpen conversations around death and dying are often confined to the realms of bad news\, frequently in a medical environment\, when the conversation becomes unavoidable. \nThis term we will focus on the question\, If this year mattered more than any other\, what would you stop postponing? \nThere is merit in normalising the subject of death to open up a wider perspective on the important aspects of living our best life. Many people avoid thinking about death\, which can create fear and discomfort. Open discussions help normalise death\, making it less of a taboo and allowing people to approach it with more acceptance and peace. \nJoin us for a series of interactive talks at the Dead Curious Cafe where we will explore our attitudes towards\, and our relationship with death. \nThis is a safe and nurturing environment\, where participation is encouraged\, and mutual respect is a given. \nYour facilitator is Loretta Dunn\, a Life Celebrant and retired nurse\, with many years of experience working with bereaved families and people at the end of life. \nThis is pay-what-you-can event\, suggested donation is £5.
URL:https://tribeporty.org/event/the-dead-curious-cafe-4/
LOCATION:The Works\, Tribe Porty\, 19 Windsor Place\, Edinburgh\, Scotland\, EH15 2AJ\, United Kingdom
ATTACH;FMTTYPE=image/png:https://tribeporty.org/wp-content/uploads/Untitled-Presentation-e1759847156598.png
END:VEVENT
BEGIN:VEVENT
DTSTART;TZID=Europe/London:20260123T093000
DTEND;TZID=Europe/London:20260123T100000
DTSTAMP:20260420T194107
CREATED:20260107T164420Z
LAST-MODIFIED:20260107T164420Z
UID:11558-1769160600-1769162400@tribeporty.org
SUMMARY:Morning Cuppa & Meditation
DESCRIPTION:Every Friday morning! \nBegin your day with stillness and presence. Every Friday morning in October\, join us for a gentle guided meditation over a warm cup of tea or coffee. In just 10-15 minutes\, we’ll create a space to quiet the mind\, reconnect with the body\, and set a calm tone for the day ahead. No rush\, no pressure – just a moment of peace to start your morning. \nNo need to pre-book\, just come along to reception at 9:30 AM. \nThis is for Tribe Porty members.
URL:https://tribeporty.org/event/morning-cuppa-meditation-11/
LOCATION:Reception\, 19 Windsor Place\, Edinburgh\, City of Edinburgh\, EH15 2AJ\, United Kingdom
ATTACH;FMTTYPE=image/jpeg:https://tribeporty.org/wp-content/uploads/unnamed-e1764685256458.jpeg
END:VEVENT
BEGIN:VEVENT
DTSTART;TZID=Europe/London:20260130T093000
DTEND;TZID=Europe/London:20260130T100000
DTSTAMP:20260420T194107
CREATED:20260107T164502Z
LAST-MODIFIED:20260107T164502Z
UID:11560-1769765400-1769767200@tribeporty.org
SUMMARY:Morning Cuppa & Meditation
DESCRIPTION:Every Friday morning! \nBegin your day with stillness and presence. Every Friday morning in October\, join us for a gentle guided meditation over a warm cup of tea or coffee. In just 10-15 minutes\, we’ll create a space to quiet the mind\, reconnect with the body\, and set a calm tone for the day ahead. No rush\, no pressure – just a moment of peace to start your morning. \nNo need to pre-book\, just come along to reception at 9:30 AM. \nThis is for Tribe Porty members.
URL:https://tribeporty.org/event/morning-cuppa-meditation-12/
LOCATION:Reception\, 19 Windsor Place\, Edinburgh\, City of Edinburgh\, EH15 2AJ\, United Kingdom
ATTACH;FMTTYPE=image/jpeg:https://tribeporty.org/wp-content/uploads/unnamed-e1764685256458.jpeg
END:VEVENT
END:VCALENDAR