BEGIN:VCALENDAR
VERSION:2.0
PRODID:-//Tribe Porty - ECPv6.15.20//NONSGML v1.0//EN
CALSCALE:GREGORIAN
METHOD:PUBLISH
X-ORIGINAL-URL:https://tribeporty.org
X-WR-CALDESC:Events for Tribe Porty
REFRESH-INTERVAL;VALUE=DURATION:PT1H
X-Robots-Tag:noindex
X-PUBLISHED-TTL:PT1H
BEGIN:VTIMEZONE
TZID:Europe/London
BEGIN:DAYLIGHT
TZOFFSETFROM:+0000
TZOFFSETTO:+0100
TZNAME:BST
DTSTART:20240331T010000
END:DAYLIGHT
BEGIN:STANDARD
TZOFFSETFROM:+0100
TZOFFSETTO:+0000
TZNAME:GMT
DTSTART:20241027T010000
END:STANDARD
BEGIN:DAYLIGHT
TZOFFSETFROM:+0000
TZOFFSETTO:+0100
TZNAME:BST
DTSTART:20250330T010000
END:DAYLIGHT
BEGIN:STANDARD
TZOFFSETFROM:+0100
TZOFFSETTO:+0000
TZNAME:GMT
DTSTART:20251026T010000
END:STANDARD
BEGIN:DAYLIGHT
TZOFFSETFROM:+0000
TZOFFSETTO:+0100
TZNAME:BST
DTSTART:20260329T010000
END:DAYLIGHT
BEGIN:STANDARD
TZOFFSETFROM:+0100
TZOFFSETTO:+0000
TZNAME:GMT
DTSTART:20261025T010000
END:STANDARD
END:VTIMEZONE
BEGIN:VEVENT
DTSTART;TZID=Europe/London:20251202T103000
DTEND;TZID=Europe/London:20251202T113000
DTSTAMP:20260420T211608
CREATED:20251029T145440Z
LAST-MODIFIED:20251029T145440Z
UID:11479-1764671400-1764675000@tribeporty.org
SUMMARY:Coffee Morning
DESCRIPTION:Join us every first Tuesday of the month for coffee\, croissants\, & great chats. \nThis event is for Tribe Porty members only.
URL:https://tribeporty.org/event/coffee-morning-2/
LOCATION:Scotland
ATTACH;FMTTYPE=image/png:https://tribeporty.org/wp-content/uploads/Be-Well-Connect-1-e1759842059215.png
END:VEVENT
BEGIN:VEVENT
DTSTART;TZID=Europe/London:20251202T173000
DTEND;TZID=Europe/London:20251202T183000
DTSTAMP:20260420T211608
CREATED:20251029T142316Z
LAST-MODIFIED:20251029T142316Z
UID:11472-1764696600-1764700200@tribeporty.org
SUMMARY:Machina Cupping at Tribe Porty
DESCRIPTION:If you’ve been at Tribe Porty for some time\, you’ll know we love our coffee. We have worked with Machina over the past three years to give you only the best morning brews! We invited Machina into Tribe Porty to host a cupping exclusively for our Tribe Members. \nDue to a limited capacity\, you’ll need to book a free ticket to access this event. \nJoin us on Tuesday\, 2nd December for a festive cupping and taste the coffees in our range. If you’ve never been to one before\, think of it like a wine tasting\, but for coffee. \nWe’ll guide you through the basics of cupping – the method coffee professionals use to explore flavour – while tasting coffees from different origins and roast styles\, including our seasonal release. \nThis is a relaxed\, welcoming session for anyone who wants to taste and learn more\, wherever you are in your coffee journey.
URL:https://tribeporty.org/event/machina-cupping-at-tribe-porty/
LOCATION:The Works\, Tribe Porty\, 19 Windsor Place\, Edinburgh\, Scotland\, EH15 2AJ\, United Kingdom
ATTACH;FMTTYPE=image/png:https://tribeporty.org/wp-content/uploads/Screen-Shot-2025-10-29-at-14.20.01.png
END:VEVENT
BEGIN:VEVENT
DTSTART;TZID=Europe/London:20251204T183000
DTEND;TZID=Europe/London:20251204T194500
DTSTAMP:20260420T211608
CREATED:20251007T140259Z
LAST-MODIFIED:20251007T142603Z
UID:11360-1764873000-1764877500@tribeporty.org
SUMMARY:The Dead Curious Cafe- December
DESCRIPTION:The Dead Curious Cafe at Tribe Porty \nOpen conversations around death and dying are often confined to the realms of bad news\, frequently in a medical environment\, when the conversation becomes unavoidable. \nThere is merit in normalising the subject of death to open up a wider perspective on the important aspects of living our best life. Many people avoid thinking about death\, which can create fear and discomfort. Open discussions help normalise death\, making it less of a taboo and allowing people to approach it with more acceptance and peace. \nJoin us for a series of interactive talks at the Dead Curious Cafe where we will explore our attitudes towards\, and our relationship with death. \nThis is a safe and nurturing environment\, where participation is encouraged\, and mutual respect is a given. \nYour facilitator is Loretta Dunn\, a Life Celebrant and retired nurse\, with many years of experience working with bereaved families and people at the end of life. \nThis is pay-what-you-can event\, suggested donation is £5. \nAbout Loretta \nLoretta Dunn is a life celebrant and death doula\, with a special interest in living well and dying well. Her journey so far has included a long career in nursing and midwifery\, she is a member of The Institute for the Study of Birth\, Breath and Death\, and an EASE Facilitator (end of life aid skills for everyone) with the Scottish Partnership for Palliative Care. She is passionate about bringing death out of the shadows as a means of helping us to live our best life in the present moment. \nCompassion and love are at the heart of her work. \nThe evening will be safe and relaxed environment for sharing and exploring a deeper understanding of spiritual wellbeing for living well to die well. \nLove has triumphed from the enfoldment of my inner circle—my closest friends and family. Engaging in open conversations about life and death has woven tighter bonds among us. Death\, a shared human experience often wrapped in silence\, has become a pivotal topic of our discussions. Through this\, I’ve gained invaluable insights about the inevitable but more so about how to live. –Dani Trudeau on conversations about death
URL:https://tribeporty.org/event/the-dead-curious-cafe-3/
LOCATION:The Works\, Tribe Porty\, 19 Windsor Place\, Edinburgh\, Scotland\, EH15 2AJ\, United Kingdom
CATEGORIES:Public Events
ATTACH;FMTTYPE=image/png:https://tribeporty.org/wp-content/uploads/Untitled-Presentation-e1759847156598.png
END:VEVENT
BEGIN:VEVENT
DTSTART;TZID=Europe/London:20251205T093000
DTEND;TZID=Europe/London:20251205T100000
DTSTAMP:20260420T211608
CREATED:20251022T140517Z
LAST-MODIFIED:20251029T143517Z
UID:11451-1764927000-1764928800@tribeporty.org
SUMMARY:Morning Cuppa & Meditation
DESCRIPTION:Every Friday morning! \nBegin your day with stillness and presence. Every Friday morning in October\, join us for a gentle guided meditation over a warm cup of tea or coffee. In just 10-15 minutes\, we’ll create a space to quiet the mind\, reconnect with the body\, and set a calm tone for the day ahead. No rush\, no pressure – just a moment of peace to start your morning. \nNo need to pre-book\, just come along to reception at 9:30 AM. \nThis is for Tribe Porty members.
URL:https://tribeporty.org/event/morning-cuppa-meditation-5/
LOCATION:Reception\, 19 Windsor Place\, Edinburgh\, City of Edinburgh\, EH15 2AJ\, United Kingdom
ATTACH;FMTTYPE=image/jpeg:https://tribeporty.org/wp-content/uploads/unnamed-e1764685256458.jpeg
END:VEVENT
BEGIN:VEVENT
DTSTART;TZID=Europe/London:20251205T190000
DTEND;TZID=Europe/London:20251205T233000
DTSTAMP:20260420T211608
CREATED:20251022T133528Z
LAST-MODIFIED:20251022T133528Z
UID:11440-1764961200-1764977400@tribeporty.org
SUMMARY:Tribe Porty Christmas Party
DESCRIPTION:Expect the usual merriment and good times; we’ll have a wee spread of festive snacks and an open bar. Feel free to bring along something to share\, potluck style \nThere’ll be silly games\, big tunes\, and plenty of festive fun. Friends and family are very welcome to join. If you have any fun ideas or special requests for the party\, we’d love to hear them.
URL:https://tribeporty.org/event/tribe-porty-christmas-party/
LOCATION:The Works\, Tribe Porty\, 19 Windsor Place\, Edinburgh\, Scotland\, EH15 2AJ\, United Kingdom
ATTACH;FMTTYPE=image/png:https://tribeporty.org/wp-content/uploads/Copy-of-Christmas-e1761140088575.png
END:VEVENT
BEGIN:VEVENT
DTSTART;TZID=Europe/London:20251212T093000
DTEND;TZID=Europe/London:20251212T100000
DTSTAMP:20260420T211608
CREATED:20251022T140620Z
LAST-MODIFIED:20251029T143441Z
UID:11453-1765531800-1765533600@tribeporty.org
SUMMARY:Morning Cuppa & Meditation
DESCRIPTION:Every Friday morning! \nBegin your day with stillness and presence. Every Friday morning in October\, join us for a gentle guided meditation over a warm cup of tea or coffee. In just 10-15 minutes\, we’ll create a space to quiet the mind\, reconnect with the body\, and set a calm tone for the day ahead. No rush\, no pressure – just a moment of peace to start your morning. \nNo need to pre-book\, just come along to reception at 9:30 AM. \nThis is for Tribe Porty members.
URL:https://tribeporty.org/event/morning-cuppa-meditation-9/
LOCATION:Reception\, 19 Windsor Place\, Edinburgh\, City of Edinburgh\, EH15 2AJ\, United Kingdom
ATTACH;FMTTYPE=image/jpeg:https://tribeporty.org/wp-content/uploads/unnamed-e1764685256458.jpeg
END:VEVENT
BEGIN:VEVENT
DTSTART;TZID=Europe/London:20251214T110000
DTEND;TZID=Europe/London:20251214T123000
DTSTAMP:20260420T211608
CREATED:20251022T132210Z
LAST-MODIFIED:20251023T143619Z
UID:11435-1765710000-1765715400@tribeporty.org
SUMMARY:Christmas Wreath Workshops Portobello
DESCRIPTION:A cosy\, creative workshop where you’ll learn how to craft beautiful\, seasonal Christmas wreaths using only sustainable techniques and UK-grown foliage and dried flowers. Guided by Holly\, you’ll learn traditional techniques\, explore natural textures\, and create a unique design to take home. Every element we use is kind to the planet\, biodegradable\, and free from floral foam or plastic. \nA glass of fizz (or non alcoholic alternative) and festive treats will be provided and you’re welcome to BYOB if you would like more than that! \nEach workshop lasts roughly 2 hours with all materials provided\, and I will be on hand for guidance the whole time. Over 16s only. \nTickets are £65 per person to make one wreath. Tickets are non-refundable.
URL:https://tribeporty.org/event/christmas-wreath-workshops-portobello-3/
LOCATION:The Works\, Tribe Porty\, 19 Windsor Place\, Edinburgh\, Scotland\, EH15 2AJ\, United Kingdom
ATTACH;FMTTYPE=image/png:https://tribeporty.org/wp-content/uploads/Screenshot-2025-10-23-at-15.32.56.png
END:VEVENT
END:VCALENDAR