BEGIN:VCALENDAR
VERSION:2.0
PRODID:-//Tribe Porty - ECPv6.15.20//NONSGML v1.0//EN
CALSCALE:GREGORIAN
METHOD:PUBLISH
X-WR-CALNAME:Tribe Porty
X-ORIGINAL-URL:https://tribeporty.org
X-WR-CALDESC:Events for Tribe Porty
REFRESH-INTERVAL;VALUE=DURATION:PT1H
X-Robots-Tag:noindex
X-PUBLISHED-TTL:PT1H
BEGIN:VTIMEZONE
TZID:Europe/London
BEGIN:DAYLIGHT
TZOFFSETFROM:+0000
TZOFFSETTO:+0100
TZNAME:BST
DTSTART:20240331T010000
END:DAYLIGHT
BEGIN:STANDARD
TZOFFSETFROM:+0100
TZOFFSETTO:+0000
TZNAME:GMT
DTSTART:20241027T010000
END:STANDARD
BEGIN:DAYLIGHT
TZOFFSETFROM:+0000
TZOFFSETTO:+0100
TZNAME:BST
DTSTART:20250330T010000
END:DAYLIGHT
BEGIN:STANDARD
TZOFFSETFROM:+0100
TZOFFSETTO:+0000
TZNAME:GMT
DTSTART:20251026T010000
END:STANDARD
BEGIN:DAYLIGHT
TZOFFSETFROM:+0000
TZOFFSETTO:+0100
TZNAME:BST
DTSTART:20260329T010000
END:DAYLIGHT
BEGIN:STANDARD
TZOFFSETFROM:+0100
TZOFFSETTO:+0000
TZNAME:GMT
DTSTART:20261025T010000
END:STANDARD
END:VTIMEZONE
BEGIN:VEVENT
DTSTART;TZID=Europe/London:20250918T180000
DTEND;TZID=Europe/London:20250918T193000
DTSTAMP:20260421T021304
CREATED:20251007T133838Z
LAST-MODIFIED:20251007T135723Z
UID:11336-1758218400-1758223800@tribeporty.org
SUMMARY:Tribe Talks- The Art of Healthy Boundaries
DESCRIPTION:The goal of Tribe Talks is to bring together bright minds\, and interesting topics\, that can help foster inspiration\, provoke conversations that matter\, and help to educate our community to do better\, and be better. \nWe offer these free gatherings monthly and they are open to all. \nThis month we have been celebrating our 10th year anniversary and bringing talks and workshops around our motto\, Work.Make.Share. \n  \nWork: The Art of healthy boundaries with Dr Jane Booth \nMake: Pieces of you\, a vision board workshops with Art Club \nShare: What’s your wonder? With the Wonder Concierge \n  \nThe Art of Healthy Boundaries \nAn interactive and empowering workshop designed to help you create and maintain the limits you need for healthier relationships\, improved well-being\, and greater self-respect. Through engaging activities\, guided discussions\, and real-life scenarios\, you’ll be encouraged to identify your personal boundaries\, think about how to communicate them with confidence\, and navigate situations where they’re tested. Whether you struggle with saying “no\,” feel drained by overcommitment\, or simply want to protect your time and energy\, this supportive\, hands-on session will give you practical tools and strategies you can start using immediately. Perfect for anyone ready to set limits without guilt\, cultivate stronger\, more respectful connections and a develop a healthier to protecting the most important things in your life. \nAbout your host \n“I fundamentally believe that great people make amazing things happen. We often lose sight of our potential\, however\, and this can hold us back from achieving what we really want. My role is to help you find your path so you can lead yourself\, and others\, on your chosen journey. With a passion for people and a creatively curious mind\, I love learning\, problem solving and supporting my clients with their own development and growth. Practitioner led and PhD informed\, I offer a unique approach to the development of leadership and orchestration of change.” Dr Jane Booth\, Opus 29. \n 
URL:https://tribeporty.org/event/tribe-talks/
LOCATION:The Works\, Tribe Porty\, 19 Windsor Place\, Edinburgh\, Scotland\, EH15 2AJ\, United Kingdom
CATEGORIES:Member Events,Public Events,Tribe Talks
END:VEVENT
END:VCALENDAR