BEGIN:VCALENDAR
VERSION:2.0
PRODID:-//Tribe Porty - ECPv6.15.20//NONSGML v1.0//EN
CALSCALE:GREGORIAN
METHOD:PUBLISH
X-ORIGINAL-URL:https://tribeporty.org
X-WR-CALDESC:Events for Tribe Porty
REFRESH-INTERVAL;VALUE=DURATION:PT1H
X-Robots-Tag:noindex
X-PUBLISHED-TTL:PT1H
BEGIN:VTIMEZONE
TZID:Europe/London
BEGIN:DAYLIGHT
TZOFFSETFROM:+0000
TZOFFSETTO:+0100
TZNAME:BST
DTSTART:20250330T010000
END:DAYLIGHT
BEGIN:STANDARD
TZOFFSETFROM:+0100
TZOFFSETTO:+0000
TZNAME:GMT
DTSTART:20251026T010000
END:STANDARD
BEGIN:DAYLIGHT
TZOFFSETFROM:+0000
TZOFFSETTO:+0100
TZNAME:BST
DTSTART:20260329T010000
END:DAYLIGHT
BEGIN:STANDARD
TZOFFSETFROM:+0100
TZOFFSETTO:+0000
TZNAME:GMT
DTSTART:20261025T010000
END:STANDARD
BEGIN:DAYLIGHT
TZOFFSETFROM:+0000
TZOFFSETTO:+0100
TZNAME:BST
DTSTART:20270328T010000
END:DAYLIGHT
BEGIN:STANDARD
TZOFFSETFROM:+0100
TZOFFSETTO:+0000
TZNAME:GMT
DTSTART:20271031T010000
END:STANDARD
END:VTIMEZONE
BEGIN:VEVENT
DTSTART;TZID=Europe/London:20260618T183000
DTEND;TZID=Europe/London:20260618T203000
DTSTAMP:20260421T151418
CREATED:20260401T105207Z
LAST-MODIFIED:20260401T105207Z
UID:11755-1781807400-1781814600@tribeporty.org
SUMMARY:Beginners Lino Print Workshop
DESCRIPTION:In this 2 hour session\, we will cover the basics of lino printing and explore the techniques and tools available. In the workshop we will cover: \ncreating and transferring a design  \ncarving the lino \nink transfer \nprinting and pressing your design \nThe session is designed to be relaxed\, friendly and informal and you will leave with a lino block of your creation and the skills to explore the craft further on your own.  \nTea and biscuits will be provided.  \nAny questions\, please feel free to get in touch.  \nNote: For cancellations\, please get in touch at least a week before the event.
URL:https://tribeporty.org/event/beginners-lino-print-workshop-6/
LOCATION:The Works\, Tribe Porty\, 19 Windsor Place\, Edinburgh\, Scotland\, EH15 2AJ\, United Kingdom
ATTACH;FMTTYPE=image/png:https://tribeporty.org/wp-content/uploads/Screen-Shot-2026-04-01-at-11.10.27.png
END:VEVENT
END:VCALENDAR