BEGIN:VCALENDAR
VERSION:2.0
PRODID:-//Tribe Porty - ECPv6.15.20//NONSGML v1.0//EN
CALSCALE:GREGORIAN
METHOD:PUBLISH
X-WR-CALNAME:Tribe Porty
X-ORIGINAL-URL:https://tribeporty.org
X-WR-CALDESC:Events for Tribe Porty
REFRESH-INTERVAL;VALUE=DURATION:PT1H
X-Robots-Tag:noindex
X-PUBLISHED-TTL:PT1H
BEGIN:VTIMEZONE
TZID:Europe/London
BEGIN:DAYLIGHT
TZOFFSETFROM:+0000
TZOFFSETTO:+0100
TZNAME:BST
DTSTART:20240331T010000
END:DAYLIGHT
BEGIN:STANDARD
TZOFFSETFROM:+0100
TZOFFSETTO:+0000
TZNAME:GMT
DTSTART:20241027T010000
END:STANDARD
BEGIN:DAYLIGHT
TZOFFSETFROM:+0000
TZOFFSETTO:+0100
TZNAME:BST
DTSTART:20250330T010000
END:DAYLIGHT
BEGIN:STANDARD
TZOFFSETFROM:+0100
TZOFFSETTO:+0000
TZNAME:GMT
DTSTART:20251026T010000
END:STANDARD
BEGIN:DAYLIGHT
TZOFFSETFROM:+0000
TZOFFSETTO:+0100
TZNAME:BST
DTSTART:20260329T010000
END:DAYLIGHT
BEGIN:STANDARD
TZOFFSETFROM:+0100
TZOFFSETTO:+0000
TZNAME:GMT
DTSTART:20261025T010000
END:STANDARD
END:VTIMEZONE
BEGIN:VEVENT
DTSTART;TZID=Europe/London:20251106T183000
DTEND;TZID=Europe/London:20251106T194500
DTSTAMP:20260422T203815
CREATED:20251007T140101Z
LAST-MODIFIED:20251007T142812Z
UID:11357-1762453800-1762458300@tribeporty.org
SUMMARY:The Dead Curious Cafe- November
DESCRIPTION:The Dead Curious Cafe at Tribe Porty \nOpen conversations around death and dying are often confined to the realms of bad news\, frequently in a medical environment\, when the conversation becomes unavoidable. \nThere is merit in normalising the subject of death to open up a wider perspective on the important aspects of living our best life. Many people avoid thinking about death\, which can create fear and discomfort. Open discussions help normalise death\, making it less of a taboo and allowing people to approach it with more acceptance and peace. \nJoin us for a series of interactive talks at the Dead Curious Cafe where we will explore our attitudes towards\, and our relationship with death. \nThis is a safe and nurturing environment\, where participation is encouraged\, and mutual respect is a given. \nYour facilitator is Loretta Dunn\, a Life Celebrant and retired nurse\, with many years of experience working with bereaved families and people at the end of life. \nThis is pay-what-you-can event\, suggested donation is £5. \nAbout Loretta \nLoretta Dunn is a life celebrant and death doula\, with a special interest in living well and dying well. Her journey so far has included a long career in nursing and midwifery\, she is a member of The Institute for the Study of Birth\, Breath and Death\, and an EASE Facilitator (end of life aid skills for everyone) with the Scottish Partnership for Palliative Care. She is passionate about bringing death out of the shadows as a means of helping us to live our best life in the present moment. \nCompassion and love are at the heart of her work. \nThe evening will be safe and relaxed environment for sharing and exploring a deeper understanding of spiritual wellbeing for living well to die well. \n“Love has triumphed from the enfoldment of my inner circle\, my closest friends and family. Engaging in open conversations about life and death has woven tighter bonds among us. Death\, a shared human experience often wrapped in silence\, has become a pivotal topic of our discussions. Through this\, I’ve gained invaluable insights about the inevitable but more so about how to live.” –Dani Trudeau on conversations about death
URL:https://tribeporty.org/event/the-dead-curious-cafe-2/
LOCATION:The Works\, Tribe Porty\, 19 Windsor Place\, Edinburgh\, Scotland\, EH15 2AJ\, United Kingdom
CATEGORIES:Member Events,Public Events
ATTACH;FMTTYPE=image/png:https://tribeporty.org/wp-content/uploads/Untitled-Presentation-e1759847156598.png
END:VEVENT
BEGIN:VEVENT
DTSTART;TZID=Europe/London:20251120T180000
DTEND;TZID=Europe/London:20251120T190000
DTSTAMP:20260422T203815
CREATED:20251007T134743Z
LAST-MODIFIED:20251007T143247Z
UID:11340-1763661600-1763665200@tribeporty.org
SUMMARY:Tribe Talks- What's your wonder?
DESCRIPTION:Tribe Talks\nThe goal of Tribe Talks is to bring together bright minds\, and interesting topics\, that can help foster inspiration\, provoke conversations that matter\, and help to educate our community to do better\, and be better. The theme for our next series is our mantra: work\, make share. \nWork: The Art of healthy boundaries with Dr Jane Booth \nMake: Pieces of you\, a vision board workshops with Art Club \nShare: What’s your wonder? With the Wonder Concierge \n\nWhat’s your wonder? \nJoin us for a relaxed and inspiring workshop where we’ll explore what lights you up – and how to stay connected to that spark in everyday life. \nThrough a mix of mini-meditation\, curiosity-sparking activities and meaningful conversation\, we’ll explore: \nWhat brings you a sense of wonder \nThe unique way you see the world \nHow sharing even a little can shift you & the world around you \nYou’ll leave with your own micro-quest to keep curiosity and wonder alive after the workshop. \nWe are all a one-in-8-billion cosmic event. Let’s take a moment to celebrate it! And follow the trail of funcrumbs to discover more of what makes us feel truly alive. \nBring your curiosity\, leave inspired to share your spark. \n  \nAbout your host \nLisa has spent nearly 10 years exploring wellbeing – from reiki to hypnotherapy – while working in creative agencies\, publishing & bookselling. Blending these experiences with bite-sized inspiration from science\, philosophy\, and art led to – The Wonder Concierge! The aim – to help people shift perspective and unlock everyday wonder. \nLisa has led curiosity-sparking experiences like The Magic of You women’s circle and Philosophy in the pub\, and is also the author of a best-selling book on Etsy. \nShe recently launched her first WonderWalk and is currently enjoying creating The Wonder Apothecary – a pocket sized library of guided meditations\, each one a remedy for stuck perspectives\, or moments when life just needs a little more wonder. \nBOOK HERE
URL:https://tribeporty.org/event/11340/
LOCATION:The Works\, Tribe Porty\, 19 Windsor Place\, Edinburgh\, Scotland\, EH15 2AJ\, United Kingdom
CATEGORIES:Member Events,Public Events,Tribe Talks
ATTACH;FMTTYPE=image/png:https://tribeporty.org/wp-content/uploads/Tribe-Talks-Social-Media-25-e1759847557983.png
END:VEVENT
END:VCALENDAR